BEGIN:VCALENDAR
VERSION:2.0
PRODID:-//CREM Network | Colorados #1 Commercial Real Estate Marketing Network - ECPv6.15.20//NONSGML v1.0//EN
CALSCALE:GREGORIAN
METHOD:PUBLISH
X-WR-CALNAME:CREM Network | Colorados #1 Commercial Real Estate Marketing Network
X-ORIGINAL-URL:https://cremnetwork.com
X-WR-CALDESC:Events for CREM Network | Colorados #1 Commercial Real Estate Marketing Network
REFRESH-INTERVAL;VALUE=DURATION:PT1H
X-Robots-Tag:noindex
X-PUBLISHED-TTL:PT1H
BEGIN:VTIMEZONE
TZID:UTC
BEGIN:STANDARD
TZOFFSETFROM:+0000
TZOFFSETTO:+0000
TZNAME:UTC
DTSTART:20230101T000000
END:STANDARD
END:VTIMEZONE
BEGIN:VEVENT
DTSTART;TZID=UTC:20250307T080000
DTEND;TZID=UTC:20250307T103000
DTSTAMP:20260424T084340
CREATED:20250307T032837Z
LAST-MODIFIED:20250307T032837Z
UID:1002-1741334400-1741343400@cremnetwork.com
SUMMARY:Navigating the Path toward Sustainability and Green Energy around “Energize Denver”
DESCRIPTION:Monthly Presentation \nFriday\, March\, 7th \, 2024 9:00 AM \nOur IN-PERSON Meeting Place \n8055 E Tufts Ave\, on Second Floor\, Denver\, CO \nClick Here to Join on ZOOM\nhttps://us02web.zoom.us/j/86828591566 \nMeeting ID: 868 2859 1566 \n8:30 AM Networking and Breakfast\n9:00 AM: CALL TO ORDER & ANNOUNCEMENTS \nEDUCATIONAL PROGRAM: Navigating the Path toward Sustainability and Green Energy around “Energize Denver”\n• Presented By: Josh McIlwain\, SFP\, LEED Green Associate \n10:00 am MARKET PERSPECTIVES: By CREM Network Members\nMARKETING: PRESENTATION OF AVAILABLE PROPERTIES / HAVES and WANTS: INFORMATION EXCHANGE\nBETWEEN MEMBERS AND GUESTS
URL:https://cremnetwork.com/event/navigating-the-path-toward-sustainability-and-green-energy-around-energize-denver/
LOCATION:BMO\, 8055 E Tufts Ave\, Denver\, CO\, United States
ORGANIZER;CN="Cinnamon Trimmer":MAILTO:AskCinnamon@gmail.com
END:VEVENT
BEGIN:VEVENT
DTSTART;TZID=UTC:20240403T000000
DTEND;TZID=UTC:20240403T000000
DTSTAMP:20260424T084340
CREATED:20240402T215149Z
LAST-MODIFIED:20240402T215342Z
UID:796-1712102400-1712102400@cremnetwork.com
SUMMARY:Test Event
DESCRIPTION:
URL:https://cremnetwork.com/event/test-event/
LOCATION:test\, 888 test
END:VEVENT
END:VCALENDAR