BEGIN:VCALENDAR
VERSION:2.0
PRODID:-//CREM Network | Colorados #1 Commercial Real Estate Marketing Network - ECPv6.15.20//NONSGML v1.0//EN
CALSCALE:GREGORIAN
METHOD:PUBLISH
X-ORIGINAL-URL:https://cremnetwork.com
X-WR-CALDESC:Events for CREM Network | Colorados #1 Commercial Real Estate Marketing Network
REFRESH-INTERVAL;VALUE=DURATION:PT1H
X-Robots-Tag:noindex
X-PUBLISHED-TTL:PT1H
BEGIN:VTIMEZONE
TZID:UTC
BEGIN:STANDARD
TZOFFSETFROM:+0000
TZOFFSETTO:+0000
TZNAME:UTC
DTSTART:20250101T000000
END:STANDARD
END:VTIMEZONE
BEGIN:VEVENT
DTSTART;VALUE=DATE:20260408
DTEND;VALUE=DATE:20260409
DTSTAMP:20260423T120306
CREATED:20260401T163907Z
LAST-MODIFIED:20260401T164018Z
UID:1239-1775606400-1775692799@cremnetwork.com
SUMMARY:DMCAR Spring 2026 Forecast
DESCRIPTION:April 8\, 2026\n8:30am – 11:00am\nReelWorks Denver\n1399 35th St.\nDenver\, CO \n\n\n\n\nJoin industry leaders and professionals for an insightful look at what’s ahead in the commercial real estate market. This spring forecast event will provide up-to-date market trends\, policy updates\, and expert analysis to help you navigate the evolving landscape. Gain valuable knowledge on economic indicators\, investment opportunities\, and regulatory changes impacting the industry. \nAttendees will also enjoy networking opportunities with peers\, decision-makers\, and thought leaders in the commercial real estate community. Whether you’re looking to stay informed\, build connections\, or position your business for success\, this event is your go-to resource for actionable insights and strategic planning. \n$79/DMCAR members \n$95/Non-members \nAttendees will receive TWO CE credits. \n\nEvent Program: \nLegislative and Policy Updates \nKeynote Panel: Sustaining Investment in Denver: Policy\, Opportunity\, and Vision \nDenver’s natural beauty\, vibrant culture\, and economic diversity continue to make it an attractive place to live\, work\, and invest. While the city has moved beyond the rapid growth of a decade ago\, momentum remains. In the face of market headwinds and evolving regulations\, Denver continues to offer meaningful opportunities for those committed to its future. \nOur keynote panel brings together leading commercial real estate investors\, industry experts and economic development leaders to explore what’s shaping Denver’s investment landscape today and why they remain confident in our market.  \nThis conversation will explore: \n\nThe policies and regulations influencing today’s commercial real estate environment\nWhere capital is being deployed now and where opportunities are emerging across the metro area\nPractical\, collaborative solutions for advancing projects in a complex market\n\nWalk away with insights and actionable takeaways to strengthen partnerships\, better position clients and stay ahead as Denver’s market continues to evolve. \nModerated by Ed Sealover\, Vice President of Strategic Initiatives for the Colorado Chamber of Commerce and editor of The Sum & Substance\, this dynamic session delivers the perspective brokers need to compete\, adapt\, and lead in the future of commercial real estate. \nAdditional speakers and programming to be announced soon!
URL:https://cremnetwork.com/event/dmcar-spring-2026-forecast/
END:VEVENT
END:VCALENDAR