BEGIN:VCALENDAR
VERSION:2.0
PRODID:-//CREM Network | Colorados #1 Commercial Real Estate Marketing Network - ECPv6.15.20//NONSGML v1.0//EN
CALSCALE:GREGORIAN
METHOD:PUBLISH
X-ORIGINAL-URL:https://cremnetwork.com
X-WR-CALDESC:Events for CREM Network | Colorados #1 Commercial Real Estate Marketing Network
REFRESH-INTERVAL;VALUE=DURATION:PT1H
X-Robots-Tag:noindex
X-PUBLISHED-TTL:PT1H
BEGIN:VTIMEZONE
TZID:UTC
BEGIN:STANDARD
TZOFFSETFROM:+0000
TZOFFSETTO:+0000
TZNAME:UTC
DTSTART:20250101T000000
END:STANDARD
END:VTIMEZONE
BEGIN:VEVENT
DTSTART;TZID=UTC:20260403T083000
DTEND;TZID=UTC:20260403T103000
DTSTAMP:20260423T120419
CREATED:20260331T221824Z
LAST-MODIFIED:20260331T221824Z
UID:1229-1775205000-1775212200@cremnetwork.com
SUMMARY:Monthly CREM Network Meeting
DESCRIPTION:Via Zoom – contact Cinnamon at AskCinnamon@gmail.com \nCREM Monthly Meeting\nDate: Friday April 3\, 2026\nTime: 8:30 AM – 10:30 AM (MT)\n📍In-Person | 8055 E Tufts Ave\, 2nd Floor\, Denver\, CO\nCost: FREE\nDetails: Join us for the next CREM Network Monthly Meeting \nAgenda Highlights:\n☕ 8:30 – 9:00 AM | Networking & Coffee by Thomas Title – Scott Hendricks\n📣 9:00 – 9:20 AM | Meeting Call to Order – Hosted by CREM Board & President\, Cinnamon Trimmer\n🎓 9:20 AM | Marketing \n9:45 -10:15 Educational Presentation and Questions – Hosted by BMO \n  \nSponsors Making It Happen: \nGrant Sather – BMO U.S. – Event Sponsor Room Sponsor\nLuke Billiot – Front Range Business\, Inc.\nDaryl Borsheim – CSSI – Cost Segregation Services\, Inc.\nGreg Bly – dcb Construction Company\, Inc.\nTara – Colorado’s Best Roofing\nDon Calahan – Calahan Construction \nGlen Weinberg – Fairview Commercial Lending (NEW Sponsor) \nOur Favorite Cater Scott with Thomas Title (Coffee and Breakfast) \n  \nDon’t miss this chance to connect\, learn\, and grow your business.\nTag a CRE professional who should be there! \nMembership in CREM not only drives stronger connections within Colorado but also opens the door to national collaboration\, encouraging the exchange of ideas\, referrals\, and partnerships that extend beyond state lines. \n  \nPlease feel free to reach out to Charlie or myself if you have questions. Thank you\, we appreciate your support and membership!
URL:https://cremnetwork.com/event/monthly-crem-network-meeting/
END:VEVENT
BEGIN:VEVENT
DTSTART;TZID=UTC:20260403T110000
DTEND;TZID=UTC:20260403T170000
DTSTAMP:20260423T120419
CREATED:20260401T164231Z
LAST-MODIFIED:20260401T164231Z
UID:1241-1775214000-1775235600@cremnetwork.com
SUMMARY:Rockys Opening Day
DESCRIPTION:The Colorado Rockies 2026 home opener at Coors Field is scheduled for Friday\, April 3\, 2026\, against the Philadelphia Phillies. The opening day festivities will feature a block party at Denver Union Station starting at 11 AM on Wynkoop Plaza before the first pitch.  \nVisit Denver +2\n\nKey Details for 2026 Home Opener:\n\nDate: Friday\, April 3\, 2026.\nOpponent: Philadelphia Phillies.\nLocation: Coors Field\, Denver\, CO.\nFestivities:\n Denver Union Station Block Party (11 AM
URL:https://cremnetwork.com/event/rockys-opening-day/
END:VEVENT
END:VCALENDAR